BEGIN:VCALENDAR
VERSION:2.0
PRODID:-//Samford Commons - ECPv4.6.24.1//NONSGML v1.0//EN
CALSCALE:GREGORIAN
METHOD:PUBLISH
X-WR-CALNAME:Samford Commons
X-ORIGINAL-URL:https://samfordcommons.org.au
X-WR-CALDESC:Events for Samford Commons
BEGIN:VEVENT
DTSTART;TZID=Australia/Brisbane:20180822T183000
DTEND;TZID=Australia/Brisbane:20180822T190000
DTSTAMP:20260424T225112
CREATED:20180713T000059Z
LAST-MODIFIED:20180713T000152Z
UID:1211-1534962600-1534964400@samfordcommons.org.au
SUMMARY:Induction session for new members
DESCRIPTION:Every 4th Wednesday from 6.30pm to 7pm. Induction session for new members of Samford Commons.  \n
URL:https://samfordcommons.org.au/event/induction-session-for-new-members-2/
END:VEVENT
END:VCALENDAR