BEGIN:VCALENDAR
VERSION:2.0
PRODID:-//Samford Commons - ECPv4.6.24.1//NONSGML v1.0//EN
CALSCALE:GREGORIAN
METHOD:PUBLISH
X-WR-CALNAME:Samford Commons
X-ORIGINAL-URL:https://samfordcommons.org.au
X-WR-CALDESC:Events for Samford Commons
BEGIN:VEVENT
DTSTART;TZID=Australia/Brisbane:20180910T080000
DTEND;TZID=Australia/Brisbane:20180910T150000
DTSTAMP:20260420T091612
CREATED:20180831T030648Z
LAST-MODIFIED:20180831T030648Z
UID:1286-1536566400-1536591600@samfordcommons.org.au
SUMMARY:Marist 180 (Study)
DESCRIPTION:
URL:https://samfordcommons.org.au/event/marist-180-study/
LOCATION:Blue Building – Samford Commons\, 2204 Mount Samson Rd\, Samford Valley\, QLD\, 4520\, Australia
END:VEVENT
END:VCALENDAR