BEGIN:VCALENDAR
VERSION:2.0
PRODID:-//Samford Commons - ECPv4.6.24.1//NONSGML v1.0//EN
CALSCALE:GREGORIAN
METHOD:PUBLISH
X-WR-CALNAME:Samford Commons
X-ORIGINAL-URL:https://samfordcommons.org.au
X-WR-CALDESC:Events for Samford Commons
BEGIN:VEVENT
DTSTART;TZID=Australia/Brisbane:20180725T190000
DTEND;TZID=Australia/Brisbane:20180725T210000
DTSTAMP:20260424T235824
CREATED:20180713T000248Z
LAST-MODIFIED:20180713T000248Z
UID:1213-1532545200-1532552400@samfordcommons.org.au
SUMMARY:Members and Community Meeting for Samford Commons
DESCRIPTION:Every 4th Wednesday from 7.00pm to 9.00pm.  Members and Community Meeting for Samford Commons \n
URL:https://samfordcommons.org.au/event/members-and-community-meeting-for-samford-commons/
END:VEVENT
END:VCALENDAR