BEGIN:VCALENDAR
VERSION:2.0
PRODID:-//Samford Commons - ECPv4.6.24.1//NONSGML v1.0//EN
CALSCALE:GREGORIAN
METHOD:PUBLISH
X-WR-CALNAME:Samford Commons
X-ORIGINAL-URL:https://samfordcommons.org.au
X-WR-CALDESC:Events for Samford Commons
BEGIN:VEVENT
DTSTART;TZID=Australia/Brisbane:20170810T183000
DTEND;TZID=Australia/Brisbane:20170810T210000
DTSTAMP:20260425T135448
CREATED:20170724T012942Z
LAST-MODIFIED:20170724T013509Z
UID:646-1502389800-1502398800@samfordcommons.org.au
SUMMARY:Digital Storytelling for Communication & Learning
DESCRIPTION:Come and learn creative storytelling skills using digital technology and social media!\nDigital storytelling provides a great way to enhance communication and social or community learning. In this practical workshop series\, you’ll learn how to use still or moving images to create a personal video story. \n6:30pm Thursday 10th\, 17th\, 24th and 31st August 2017 \nDownload the Digital Workshop Flyer \nBUY TICKETS HERE \n
URL:https://samfordcommons.org.au/event/digital-storytelling-communication-learning/
LOCATION:Samford Commons\, 2204 Mount Samson Rd\, Samford Valley\, Queensland\, 4520\, Australia
ATTACH;FMTTYPE=image/png:https://samfordcommons.org.au/site/wp-content/uploads/2017/07/digital-story-telling.png
END:VEVENT
END:VCALENDAR