BEGIN:VCALENDAR
VERSION:2.0
PRODID:-//Samford Commons - ECPv4.6.24.1//NONSGML v1.0//EN
CALSCALE:GREGORIAN
METHOD:PUBLISH
X-WR-CALNAME:Samford Commons
X-ORIGINAL-URL:https://samfordcommons.org.au
X-WR-CALDESC:Events for Samford Commons
BEGIN:VEVENT
DTSTART;TZID=Australia/Brisbane:20180328T183000
DTEND;TZID=Australia/Brisbane:20180328T210000
DTSTAMP:20260425T033320
CREATED:20180316T061739Z
LAST-MODIFIED:20180316T061739Z
UID:1062-1522261800-1522270800@samfordcommons.org.au
SUMMARY:Samford Commons Members and Community Meeting
DESCRIPTION:4th Wednesday of each month from 6.30pm to 9pm in the Sos blueroom \n
URL:https://samfordcommons.org.au/event/samford-commons-members-and-community-meeting/
LOCATION:Blue Building – Samford Commons\, 2204 Mount Samson Rd\, Samford Valley\, QLD\, 4520\, Australia
END:VEVENT
END:VCALENDAR