BEGIN:VCALENDAR
VERSION:2.0
PRODID:-//Samford Commons - ECPv4.6.24.1//NONSGML v1.0//EN
CALSCALE:GREGORIAN
METHOD:PUBLISH
X-WR-CALNAME:Samford Commons
X-ORIGINAL-URL:https://samfordcommons.org.au
X-WR-CALDESC:Events for Samford Commons
BEGIN:VEVENT
DTSTART;TZID=Australia/Brisbane:20180719T183000
DTEND;TZID=Australia/Brisbane:20180719T210000
DTSTAMP:20260424T235417
CREATED:20180712T235753Z
LAST-MODIFIED:20180712T235753Z
UID:1205-1532025000-1532034000@samfordcommons.org.au
SUMMARY:Samford Commons board Meeting
DESCRIPTION:Every 3rd Thursday from 6.30pm to 9pm in the Blue Room \n
URL:https://samfordcommons.org.au/event/samford-commons-board-meeting/
LOCATION:Blue Building – Samford Commons\, 2204 Mount Samson Rd\, Samford Valley\, QLD\, 4520\, Australia
END:VEVENT
END:VCALENDAR