BEGIN:VCALENDAR
VERSION:2.0
PRODID:-//Samford Commons - ECPv4.6.24.1//NONSGML v1.0//EN
CALSCALE:GREGORIAN
METHOD:PUBLISH
X-WR-CALNAME:Samford Commons
X-ORIGINAL-URL:https://samfordcommons.org.au
X-WR-CALDESC:Events for Samford Commons
BEGIN:VEVENT
DTSTART;TZID=Australia/Brisbane:20180727T100000
DTEND;TZID=Australia/Brisbane:20180727T120000
DTSTAMP:20260425T000055
CREATED:20180608T015259Z
LAST-MODIFIED:20180627T063632Z
UID:1192-1532685600-1532692800@samfordcommons.org.au
SUMMARY:Morning Tea at the Commons in the library
DESCRIPTION:Morning tea\, games\, book talks\, library borrowing \n
URL:https://samfordcommons.org.au/event/morning-tea-at-the-commons-in-the-library-2/
LOCATION:Blue Building – Samford Commons\, 2204 Mount Samson Rd\, Samford Valley\, QLD\, 4520\, Australia
END:VEVENT
END:VCALENDAR