BEGIN:VCALENDAR
VERSION:2.0
PRODID:-//Samford Commons - ECPv4.6.24.1//NONSGML v1.0//EN
CALSCALE:GREGORIAN
METHOD:PUBLISH
X-WR-CALNAME:Samford Commons
X-ORIGINAL-URL:https://samfordcommons.org.au
X-WR-CALDESC:Events for Samford Commons
BEGIN:VEVENT
DTSTART;TZID=Australia/Brisbane:20181006T140000
DTEND;TZID=Australia/Brisbane:20181006T170000
DTSTAMP:20260424T203533
CREATED:20180412T234413Z
LAST-MODIFIED:20181016T010752Z
UID:1375-1538834400-1538845200@samfordcommons.org.au
SUMMARY:Samford Community Library Open
DESCRIPTION:Did you know that Samford Commons has enabled the Samford Community Library ‘Stage One’ to be ready to welcome borrowers! \nBecause of the community’s generosity\, they can now share books\, DVDs\, CDs\, magazines and puzzles. Borrow (5 items for any person at a time) for a small yearly subscription of $5 for an individual or $10 for a family! \nThey are open on Wednesdays from 9 to 5 and Saturdays 2 to 5. All welcome to come on those days to read or chat or discuss books. \n\nThe pop up library is located in the blue building onsite at Samford Commons\, 2204 Mt Samson Rd\, Samford. \n\n
URL:https://samfordcommons.org.au/event/samford-community-library-2-2-2-3-2-2-2-2-2-2-3-2-2-2-2-2-2-2-2-2-2-2-2/2018-10-06/
LOCATION:Blue Building – Samford Commons\, 2204 Mount Samson Rd\, Samford Valley\, QLD\, 4520\, Australia
ATTACH;FMTTYPE=image/png:https://samfordcommons.org.au/site/wp-content/uploads/2018/04/samford-community-library.png
END:VEVENT
BEGIN:VEVENT
DTSTART;TZID=Australia/Brisbane:20181006T160000
DTEND;TZID=Australia/Brisbane:20181006T230000
DTSTAMP:20260424T203533
CREATED:20180911T111604Z
LAST-MODIFIED:20180911T111604Z
UID:1334-1538841600-1538866800@samfordcommons.org.au
SUMMARY:Youth Arts group activity B54 precinct
DESCRIPTION:
URL:https://samfordcommons.org.au/event/youth-arts-group-activity-b54-precinct/
LOCATION:Samford Commons\, 2204 Mount Samson Rd\, Samford Valley\, Queensland\, 4520\, Australia
END:VEVENT
BEGIN:VEVENT
DTSTART;TZID=Australia/Brisbane:20181006T173000
DTEND;TZID=Australia/Brisbane:20181006T203000
DTSTAMP:20260424T203533
CREATED:20180921T011701Z
LAST-MODIFIED:20180921T011701Z
UID:1343-1538847000-1538857800@samfordcommons.org.au
SUMMARY:INK ON THE COUCH
DESCRIPTION:New Music & Arts Series for Young People to launch in Samford Valley \nSamford Commons launches a new music and art series for young people on Sat 6 October. Called Ink on the Couch the series will feature up and coming artists from south east QLD\, and provide live entertainment for young audiences. \nSamford Commons is pleased to host this series which will provide a new creative outlet for young people\, promote local community cultural growth\, and offer a good night’s entertainment without the need to head over the range into the city. \nINK ON THE COUCH  \nSpring Soiree – music and art for young people \nSat 6 October\, from 5.30pm \nAt Samford Commons 2204 Mount Samson Rd\, Samford Valley \nLive music\, art\, bar\, food: Under the stars\, old CSIRO site\, north of Samford Village. \nTix are $11\, book at eventbrite. Event info: www.facebook.com/inkonthecouch/. \n
URL:https://samfordcommons.org.au/event/ink-on-the-couch/
LOCATION:Samford Commons\, 2204 Mount Samson Rd\, Samford Valley\, Queensland\, 4520\, Australia
ATTACH;FMTTYPE=image/jpeg:https://samfordcommons.org.au/site/wp-content/uploads/2018/09/Ink-on-the-Couch-10.18-Facebook-banner.jpg
END:VEVENT
END:VCALENDAR