BEGIN:VCALENDAR
VERSION:2.0
PRODID:-//Samford Commons - ECPv4.6.24.1//NONSGML v1.0//EN
CALSCALE:GREGORIAN
METHOD:PUBLISH
X-WR-CALNAME:Samford Commons
X-ORIGINAL-URL:https://samfordcommons.org.au
X-WR-CALDESC:Events for Samford Commons
BEGIN:VEVENT
DTSTART;TZID=Australia/Brisbane:20181008T153000
DTEND;TZID=Australia/Brisbane:20181008T163000
DTSTAMP:20260424T203254
CREATED:20181001T234849Z
LAST-MODIFIED:20181001T234849Z
UID:1380-1539012600-1539016200@samfordcommons.org.au
SUMMARY:Kids' Community Collect 'Young Go-Getters' program
DESCRIPTION:
URL:https://samfordcommons.org.au/event/kids-community-collect-young-go-getters-program/
LOCATION:Samford Commons\, 2204 Mount Samson Rd\, Samford Valley\, Queensland\, 4520\, Australia
END:VEVENT
END:VCALENDAR