BEGIN:VCALENDAR
VERSION:2.0
PRODID:-//Samford Commons - ECPv4.6.24.1//NONSGML v1.0//EN
CALSCALE:GREGORIAN
METHOD:PUBLISH
X-WR-CALNAME:Samford Commons
X-ORIGINAL-URL:https://samfordcommons.org.au
X-WR-CALDESC:Events for Samford Commons
BEGIN:VEVENT
DTSTART;TZID=Australia/Brisbane:20181117T090000
DTEND;TZID=Australia/Brisbane:20181117T150000
DTSTAMP:20260424T192130
CREATED:20180531T055959Z
LAST-MODIFIED:20181014T232817Z
UID:1158-1542445200-1542466800@samfordcommons.org.au
SUMMARY:Digital Storytelling Toolkit (or Eco-media workshop)
DESCRIPTION:Saturday Workshop 9am-3pm. \nCome and learn creative storytelling skills using digital technology and social media!\n\nDigital storytelling provides a great way to enhance communication and social or community learning . In this practical workshop\, you’ll learn how to use still or moving images to create a personal video story.\nDownload Digital Storytelling workshop flyer \n
URL:https://samfordcommons.org.au/event/digital-storytelling-toolkit-2-2/
LOCATION:Samford Commons\, 2204 Mount Samson Rd\, Samford Valley\, Queensland\, 4520\, Australia
END:VEVENT
END:VCALENDAR