BEGIN:VCALENDAR
VERSION:2.0
PRODID:-//Samford Commons - ECPv4.6.24.1//NONSGML v1.0//EN
CALSCALE:GREGORIAN
METHOD:PUBLISH
X-WR-CALNAME:Samford Commons
X-ORIGINAL-URL:https://samfordcommons.org.au
X-WR-CALDESC:Events for Samford Commons
BEGIN:VEVENT
DTSTART;TZID=Australia/Brisbane:20181206T131500
DTEND;TZID=Australia/Brisbane:20181206T163000
DTSTAMP:20260424T180334
CREATED:20181112T233544Z
LAST-MODIFIED:20181112T233646Z
UID:1607-1544102100-1544113800@samfordcommons.org.au
SUMMARY:Information session for upcoming NDIS interviews
DESCRIPTION:
URL:https://samfordcommons.org.au/event/information-session-for-upcoming-ndis-interviews/
LOCATION:Blue Building – Samford Commons\, 2204 Mount Samson Rd\, Samford Valley\, QLD\, 4520\, Australia
END:VEVENT
END:VCALENDAR