BEGIN:VCALENDAR
VERSION:2.0
PRODID:-//Samford Commons - ECPv4.6.24.1//NONSGML v1.0//EN
CALSCALE:GREGORIAN
METHOD:PUBLISH
X-WR-CALNAME:Samford Commons
X-ORIGINAL-URL:https://samfordcommons.org.au
X-WR-CALDESC:Events for Samford Commons
BEGIN:VEVENT
DTSTART;TZID=Australia/Brisbane:20190124T093000
DTEND;TZID=Australia/Brisbane:20190124T113000
DTSTAMP:20260424T170749
CREATED:20190107T230603Z
LAST-MODIFIED:20190107T230603Z
UID:1687-1548322200-1548329400@samfordcommons.org.au
SUMMARY:CHILDREN’S WRITING WORKSHOP with Janet Reid
DESCRIPTION:Workshop to encourage children to improve their writing skills \n
URL:https://samfordcommons.org.au/event/childrens-writing-workshop-with-janet-reid/
LOCATION:Blue Building – Samford Commons\, 2204 Mount Samson Rd\, Samford Valley\, QLD\, 4520\, Australia
END:VEVENT
END:VCALENDAR