BEGIN:VCALENDAR
VERSION:2.0
PRODID:-//Samford Commons - ECPv4.6.24.1//NONSGML v1.0//EN
CALSCALE:GREGORIAN
METHOD:PUBLISH
X-WR-CALNAME:Samford Commons
X-ORIGINAL-URL:https://samfordcommons.org.au
X-WR-CALDESC:Events for Samford Commons
BEGIN:VEVENT
DTSTART;TZID=Australia/Brisbane:20190130T090000
DTEND;TZID=Australia/Brisbane:20190130T170000
DTSTAMP:20190227T135917
CREATED:20180412T234413Z
LAST-MODIFIED:20180412T234413Z
UID:1474-1548838800-1548867600@samfordcommons.org.au
SUMMARY:Samford Community Library Open
DESCRIPTION:Did you know that Samford Commons has enabled the Samford Community Library ‘Stage One’ to be ready to welcome borrowers! \nBecause of the community’s generosity\, they can now share books\, DVDs\, CDs\, magazines and puzzles. Borrow (5 items for any person at a time) for a small yearly subscription of $5 for an individual or $10 for a family! \nThey are open on Wednesdays from 9 to 5 and Saturdays 2 to 5. All welcome to come on those days to read or chat or discuss books. \n\nThe pop up library is located in the blue building onsite at Samford Commons\, 2204 Mt Samson Rd\, Samford. \n\n
URL:https://samfordcommons.org.au/event/samford-community-library-3-2-2-2-2-2-2-2-2-2-2-2-2-2-2-2-2-2-2-2-2-2-2/2019-01-30/
LOCATION:Blue Building – Samford Commons\, 2204 Mount Samson Rd\, Samford Valley\, QLD\, 4520\, Australia
ATTACH;FMTTYPE=image/png:https://samfordcommons.org.au/site/wp-content/uploads/2018/04/samford-community-library.png
END:VEVENT
BEGIN:VEVENT
DTSTART;TZID=Australia/Brisbane:20190201T090000
DTEND;TZID=Australia/Brisbane:20190201T100000
DTSTAMP:20190227T135917
CREATED:20190118T003556Z
LAST-MODIFIED:20190118T003556Z
UID:1692-1549011600-1549015200@samfordcommons.org.au
SUMMARY:E-waste collection
DESCRIPTION:
URL:https://samfordcommons.org.au/event/e-waste-collection/
LOCATION:Samford Commons\, 2204 Mount Samson Rd\, Samford Valley\, Queensland\, 4520\, Australia
END:VEVENT
BEGIN:VEVENT
DTSTART;TZID=Australia/Brisbane:20190202T090000
DTEND;TZID=Australia/Brisbane:20190202T100000
DTSTAMP:20190227T135917
CREATED:20190118T003653Z
LAST-MODIFIED:20190118T003653Z
UID:1694-1549098000-1549101600@samfordcommons.org.au
SUMMARY:E-waste collection
DESCRIPTION:
URL:https://samfordcommons.org.au/event/e-waste-collection-2/
LOCATION:Samford Commons\, 2204 Mount Samson Rd\, Samford Valley\, Queensland\, 4520\, Australia
END:VEVENT
BEGIN:VEVENT
DTSTART;TZID=Australia/Brisbane:20190202T140000
DTEND;TZID=Australia/Brisbane:20190202T170000
DTSTAMP:20190227T135917
CREATED:20180412T234413Z
LAST-MODIFIED:20180412T234413Z
UID:1433-1549116000-1549126800@samfordcommons.org.au
SUMMARY:Samford Community Library Open
DESCRIPTION:Did you know that Samford Commons has enabled the Samford Community Library ‘Stage One’ to be ready to welcome borrowers! \nBecause of the community’s generosity\, they can now share books\, DVDs\, CDs\, magazines and puzzles. Borrow (5 items for any person at a time) for a small yearly subscription of $5 for an individual or $10 for a family! \nThey are open on Wednesdays from 9 to 5 and Saturdays 2 to 5. All welcome to come on those days to read or chat or discuss books. \n\nThe pop up library is located in the blue building onsite at Samford Commons\, 2204 Mt Samson Rd\, Samford. \n\n
URL:https://samfordcommons.org.au/event/samford-community-library-2-2-2-3-2-2-2-2-2-2-3-2-2-2-2-2-2-2-2-2-2-2-2/2019-02-02/
LOCATION:Blue Building – Samford Commons\, 2204 Mount Samson Rd\, Samford Valley\, QLD\, 4520\, Australia
ATTACH;FMTTYPE=image/png:https://samfordcommons.org.au/site/wp-content/uploads/2018/04/samford-community-library.png
END:VEVENT
BEGIN:VEVENT
DTSTART;TZID=Australia/Brisbane:20190206T090000
DTEND;TZID=Australia/Brisbane:20190206T170000
DTSTAMP:20190227T135917
CREATED:20180412T234413Z
LAST-MODIFIED:20180412T234413Z
UID:1475-1549443600-1549472400@samfordcommons.org.au
SUMMARY:Samford Community Library Open
DESCRIPTION:Did you know that Samford Commons has enabled the Samford Community Library ‘Stage One’ to be ready to welcome borrowers! \nBecause of the community’s generosity\, they can now share books\, DVDs\, CDs\, magazines and puzzles. Borrow (5 items for any person at a time) for a small yearly subscription of $5 for an individual or $10 for a family! \nThey are open on Wednesdays from 9 to 5 and Saturdays 2 to 5. All welcome to come on those days to read or chat or discuss books. \n\nThe pop up library is located in the blue building onsite at Samford Commons\, 2204 Mt Samson Rd\, Samford. \n\n
URL:https://samfordcommons.org.au/event/samford-community-library-3-2-2-2-2-2-2-2-2-2-2-2-2-2-2-2-2-2-2-2-2-2-2/2019-02-06/
LOCATION:Blue Building – Samford Commons\, 2204 Mount Samson Rd\, Samford Valley\, QLD\, 4520\, Australia
ATTACH;FMTTYPE=image/png:https://samfordcommons.org.au/site/wp-content/uploads/2018/04/samford-community-library.png
END:VEVENT
BEGIN:VEVENT
DTSTART;TZID=Australia/Brisbane:20190209T140000
DTEND;TZID=Australia/Brisbane:20190209T170000
DTSTAMP:20190227T135917
CREATED:20180412T234413Z
LAST-MODIFIED:20180412T234413Z
UID:1434-1549720800-1549731600@samfordcommons.org.au
SUMMARY:Samford Community Library Open
DESCRIPTION:Did you know that Samford Commons has enabled the Samford Community Library ‘Stage One’ to be ready to welcome borrowers! \nBecause of the community’s generosity\, they can now share books\, DVDs\, CDs\, magazines and puzzles. Borrow (5 items for any person at a time) for a small yearly subscription of $5 for an individual or $10 for a family! \nThey are open on Wednesdays from 9 to 5 and Saturdays 2 to 5. All welcome to come on those days to read or chat or discuss books. \n\nThe pop up library is located in the blue building onsite at Samford Commons\, 2204 Mt Samson Rd\, Samford. \n\n
URL:https://samfordcommons.org.au/event/samford-community-library-2-2-2-3-2-2-2-2-2-2-3-2-2-2-2-2-2-2-2-2-2-2-2/2019-02-09/
LOCATION:Blue Building – Samford Commons\, 2204 Mount Samson Rd\, Samford Valley\, QLD\, 4520\, Australia
ATTACH;FMTTYPE=image/png:https://samfordcommons.org.au/site/wp-content/uploads/2018/04/samford-community-library.png
END:VEVENT
BEGIN:VEVENT
DTSTART;TZID=Australia/Brisbane:20190213T090000
DTEND;TZID=Australia/Brisbane:20190213T170000
DTSTAMP:20190227T135917
CREATED:20180412T234413Z
LAST-MODIFIED:20180412T234413Z
UID:1476-1550048400-1550077200@samfordcommons.org.au
SUMMARY:Samford Community Library Open
DESCRIPTION:Did you know that Samford Commons has enabled the Samford Community Library ‘Stage One’ to be ready to welcome borrowers! \nBecause of the community’s generosity\, they can now share books\, DVDs\, CDs\, magazines and puzzles. Borrow (5 items for any person at a time) for a small yearly subscription of $5 for an individual or $10 for a family! \nThey are open on Wednesdays from 9 to 5 and Saturdays 2 to 5. All welcome to come on those days to read or chat or discuss books. \n\nThe pop up library is located in the blue building onsite at Samford Commons\, 2204 Mt Samson Rd\, Samford. \n\n
URL:https://samfordcommons.org.au/event/samford-community-library-3-2-2-2-2-2-2-2-2-2-2-2-2-2-2-2-2-2-2-2-2-2-2/2019-02-13/
LOCATION:Blue Building – Samford Commons\, 2204 Mount Samson Rd\, Samford Valley\, QLD\, 4520\, Australia
ATTACH;FMTTYPE=image/png:https://samfordcommons.org.au/site/wp-content/uploads/2018/04/samford-community-library.png
END:VEVENT
BEGIN:VEVENT
DTSTART;TZID=Australia/Brisbane:20190216T140000
DTEND;TZID=Australia/Brisbane:20190216T170000
DTSTAMP:20190227T135917
CREATED:20180412T234413Z
LAST-MODIFIED:20180412T234413Z
UID:1435-1550325600-1550336400@samfordcommons.org.au
SUMMARY:Samford Community Library Open
DESCRIPTION:Did you know that Samford Commons has enabled the Samford Community Library ‘Stage One’ to be ready to welcome borrowers! \nBecause of the community’s generosity\, they can now share books\, DVDs\, CDs\, magazines and puzzles. Borrow (5 items for any person at a time) for a small yearly subscription of $5 for an individual or $10 for a family! \nThey are open on Wednesdays from 9 to 5 and Saturdays 2 to 5. All welcome to come on those days to read or chat or discuss books. \n\nThe pop up library is located in the blue building onsite at Samford Commons\, 2204 Mt Samson Rd\, Samford. \n\n
URL:https://samfordcommons.org.au/event/samford-community-library-2-2-2-3-2-2-2-2-2-2-3-2-2-2-2-2-2-2-2-2-2-2-2/2019-02-16/
LOCATION:Blue Building – Samford Commons\, 2204 Mount Samson Rd\, Samford Valley\, QLD\, 4520\, Australia
ATTACH;FMTTYPE=image/png:https://samfordcommons.org.au/site/wp-content/uploads/2018/04/samford-community-library.png
END:VEVENT
BEGIN:VEVENT
DTSTART;TZID=Australia/Brisbane:20190220T090000
DTEND;TZID=Australia/Brisbane:20190220T170000
DTSTAMP:20190227T135917
CREATED:20180412T234413Z
LAST-MODIFIED:20180412T234413Z
UID:1477-1550653200-1550682000@samfordcommons.org.au
SUMMARY:Samford Community Library Open
DESCRIPTION:Did you know that Samford Commons has enabled the Samford Community Library ‘Stage One’ to be ready to welcome borrowers! \nBecause of the community’s generosity\, they can now share books\, DVDs\, CDs\, magazines and puzzles. Borrow (5 items for any person at a time) for a small yearly subscription of $5 for an individual or $10 for a family! \nThey are open on Wednesdays from 9 to 5 and Saturdays 2 to 5. All welcome to come on those days to read or chat or discuss books. \n\nThe pop up library is located in the blue building onsite at Samford Commons\, 2204 Mt Samson Rd\, Samford. \n\n
URL:https://samfordcommons.org.au/event/samford-community-library-3-2-2-2-2-2-2-2-2-2-2-2-2-2-2-2-2-2-2-2-2-2-2/2019-02-20/
LOCATION:Blue Building – Samford Commons\, 2204 Mount Samson Rd\, Samford Valley\, QLD\, 4520\, Australia
ATTACH;FMTTYPE=image/png:https://samfordcommons.org.au/site/wp-content/uploads/2018/04/samford-community-library.png
END:VEVENT
BEGIN:VEVENT
DTSTART;TZID=Australia/Brisbane:20190223T093000
DTEND;TZID=Australia/Brisbane:20190223T153000
DTSTAMP:20190227T135917
CREATED:20181126T003341Z
LAST-MODIFIED:20181126T003341Z
UID:1649-1550914200-1550935800@samfordcommons.org.au
SUMMARY:Boomerang Bags Workshop
DESCRIPTION:Workshop for making Boomerang Bags\, with Morning tea/ afternoon tea. BYO lunch \nFourth Saturday of every month\, 9.30 to 3.30 \n
URL:https://samfordcommons.org.au/event/boomerang-bags-workshop/2019-02-23/
LOCATION:Blue Building – Samford Commons\, 2204 Mount Samson Rd\, Samford Valley\, QLD\, 4520\, Australia
END:VEVENT
BEGIN:VEVENT
DTSTART;TZID=Australia/Brisbane:20190223T140000
DTEND;TZID=Australia/Brisbane:20190223T170000
DTSTAMP:20190227T135917
CREATED:20180412T234413Z
LAST-MODIFIED:20180412T234413Z
UID:1436-1550930400-1550941200@samfordcommons.org.au
SUMMARY:Samford Community Library Open
DESCRIPTION:Did you know that Samford Commons has enabled the Samford Community Library ‘Stage One’ to be ready to welcome borrowers! \nBecause of the community’s generosity\, they can now share books\, DVDs\, CDs\, magazines and puzzles. Borrow (5 items for any person at a time) for a small yearly subscription of $5 for an individual or $10 for a family! \nThey are open on Wednesdays from 9 to 5 and Saturdays 2 to 5. All welcome to come on those days to read or chat or discuss books. \n\nThe pop up library is located in the blue building onsite at Samford Commons\, 2204 Mt Samson Rd\, Samford. \n\n
URL:https://samfordcommons.org.au/event/samford-community-library-2-2-2-3-2-2-2-2-2-2-3-2-2-2-2-2-2-2-2-2-2-2-2/2019-02-23/
LOCATION:Blue Building – Samford Commons\, 2204 Mount Samson Rd\, Samford Valley\, QLD\, 4520\, Australia
ATTACH;FMTTYPE=image/png:https://samfordcommons.org.au/site/wp-content/uploads/2018/04/samford-community-library.png
END:VEVENT
BEGIN:VEVENT
DTSTART;TZID=Australia/Brisbane:20190227T090000
DTEND;TZID=Australia/Brisbane:20190227T170000
DTSTAMP:20190227T135917
CREATED:20180412T234413Z
LAST-MODIFIED:20180412T234413Z
UID:1478-1551258000-1551286800@samfordcommons.org.au
SUMMARY:Samford Community Library Open
DESCRIPTION:Did you know that Samford Commons has enabled the Samford Community Library ‘Stage One’ to be ready to welcome borrowers! \nBecause of the community’s generosity\, they can now share books\, DVDs\, CDs\, magazines and puzzles. Borrow (5 items for any person at a time) for a small yearly subscription of $5 for an individual or $10 for a family! \nThey are open on Wednesdays from 9 to 5 and Saturdays 2 to 5. All welcome to come on those days to read or chat or discuss books. \n\nThe pop up library is located in the blue building onsite at Samford Commons\, 2204 Mt Samson Rd\, Samford. \n\n
URL:https://samfordcommons.org.au/event/samford-community-library-3-2-2-2-2-2-2-2-2-2-2-2-2-2-2-2-2-2-2-2-2-2-2/2019-02-27/
LOCATION:Blue Building – Samford Commons\, 2204 Mount Samson Rd\, Samford Valley\, QLD\, 4520\, Australia
ATTACH;FMTTYPE=image/png:https://samfordcommons.org.au/site/wp-content/uploads/2018/04/samford-community-library.png
END:VEVENT
BEGIN:VEVENT
DTSTART;TZID=Australia/Brisbane:20190228T183000
DTEND;TZID=Australia/Brisbane:20190228T203000
DTSTAMP:20190227T135917
CREATED:20190211T005301Z
LAST-MODIFIED:20190211T005301Z
UID:1706-1551378600-1551385800@samfordcommons.org.au
SUMMARY:Millen Farm Education Team
DESCRIPTION:
URL:https://samfordcommons.org.au/event/millen-farm-education-team-2/
LOCATION:Blue Building – Samford Commons\, 2204 Mount Samson Rd\, Samford Valley\, QLD\, 4520\, Australia
END:VEVENT
BEGIN:VEVENT
DTSTART;TZID=Australia/Brisbane:20190302T140000
DTEND;TZID=Australia/Brisbane:20190302T170000
DTSTAMP:20190227T135917
CREATED:20180412T234413Z
LAST-MODIFIED:20180412T234413Z
UID:1437-1551535200-1551546000@samfordcommons.org.au
SUMMARY:Samford Community Library Open
DESCRIPTION:Did you know that Samford Commons has enabled the Samford Community Library ‘Stage One’ to be ready to welcome borrowers! \nBecause of the community’s generosity\, they can now share books\, DVDs\, CDs\, magazines and puzzles. Borrow (5 items for any person at a time) for a small yearly subscription of $5 for an individual or $10 for a family! \nThey are open on Wednesdays from 9 to 5 and Saturdays 2 to 5. All welcome to come on those days to read or chat or discuss books. \n\nThe pop up library is located in the blue building onsite at Samford Commons\, 2204 Mt Samson Rd\, Samford. \n\n
URL:https://samfordcommons.org.au/event/samford-community-library-2-2-2-3-2-2-2-2-2-2-3-2-2-2-2-2-2-2-2-2-2-2-2/2019-03-02/
LOCATION:Blue Building – Samford Commons\, 2204 Mount Samson Rd\, Samford Valley\, QLD\, 4520\, Australia
ATTACH;FMTTYPE=image/png:https://samfordcommons.org.au/site/wp-content/uploads/2018/04/samford-community-library.png
END:VEVENT
END:VCALENDAR